BEGIN:VCALENDAR
VERSION:2.0
PRODID:-//ChamberMaster//Event Calendar 2.0//EN
METHOD:PUBLISH
X-PUBLISHED-TTL:P3D
REFRESH-INTERVAL:P3D
CALSCALE:GREGORIAN
BEGIN:VEVENT
DTSTART:20210528T150000Z
DTEND:20210529T040000Z
X-MICROSOFT-CDO-ALLDAYEVENT:FALSE
SUMMARY:Memorial Day Ceremony
DESCRIPTION:Memorial Day Ceremony\n\nOpen to the public and streamed on City of Madisonville Facebook page.  In the case of inclement weather\, the ceremony will be held in the Hopkins County Fiscal Court Room\, 56 North Main Street.
X-ALT-DESC;FMTTYPE=text/html:Memorial Day Ceremony<br />\nOpen to the public and streamed on City of Madisonville Facebook page.&nbsp\; In the case of inclement weather\, the ceremony will be held in the Hopkins County Fiscal Court Room\, 56 North Main Street.
LOCATION:Veterans Memorial
UID:e.1578.5030
SEQUENCE:3
DTSTAMP:20260421T194130Z
URL:https://business.hopkinschamber.com/events/details/memorial-day-ceremony-5030
END:VEVENT

END:VCALENDAR
