BEGIN:VCALENDAR
VERSION:2.0
PRODID:-//ChamberMaster//Event Calendar 2.0//EN
METHOD:PUBLISH
X-PUBLISHED-TTL:P3D
REFRESH-INTERVAL:P3D
CALSCALE:GREGORIAN
BEGIN:VEVENT
DTSTART:20140505T170000Z
DTEND:20140505T180000Z
X-MICROSOFT-CDO-ALLDAYEVENT:FALSE
SUMMARY:Meet the Candidate: Matt Bevin
DESCRIPTION:Meet Matt Bevin\, candidate for U.S. Senate. This event is for informational purposes only\; no endorsement should be implied.
X-ALT-DESC;FMTTYPE=text/html:<div style="color: gray\;"><span style="color: rgb(0\, 0\, 0)\;">Meet Matt Bevin\, candidate for U.S. Senate. This event is for informational purposes only\; no endorsement should be implied.</span></div>\n
LOCATION:The Chamber office\, 15 E. Center\, Madisonville
UID:e.1578.437
SEQUENCE:3
DTSTAMP:20260423T133606Z
URL:https://business.hopkinschamber.com/events/details/meet-the-candidate-matt-bevin-05-05-2014-437
END:VEVENT

END:VCALENDAR
