BEGIN:VCALENDAR
VERSION:2.0
PRODID:-//ChamberMaster//Event Calendar 2.0//EN
METHOD:PUBLISH
X-PUBLISHED-TTL:P3D
REFRESH-INTERVAL:P3D
CALSCALE:GREGORIAN
BEGIN:VEVENT
DTSTART:20140813T140000Z
DTEND:20140813T150000Z
X-MICROSOFT-CDO-ALLDAYEVENT:FALSE
SUMMARY:Meet & Greet: New Murray State University President
DESCRIPTION:Murray State University's new president\, Dr. Robert O. Davies\, will spend the day in Madisonville on Wednesday\, Aug. 13\, visiting community leaders and others in Madisonville and Hopkins County. The day begins at 9 a.m. with Davies meeting members of the Madisonville/Hopkins County Chamber of Commerce\, Mayor David Jackson and County Judge Executive Donald Carroll. Davies began his duties as the university's 13th president on July 14. He came to Murray State from Eastern Oregon University\, where he served as president for five years. He and his wife\, Cindy\, have a daughter\, Katie.
X-ALT-DESC;FMTTYPE=text/html:Murray State University&rsquo\;s new president\, Dr. Robert O. Davies\, will spend the day in Madisonville on Wednesday\, Aug. 13\, visiting community leaders and others in Madisonville and Hopkins County. The day begins at 9 a.m. with Davies meeting members of the Madisonville/Hopkins County Chamber of Commerce\, Mayor David Jackson and County Judge Executive Donald Carroll. Davies began his duties as the university&rsquo\;s 13th president on July 14. He came to Murray State from Eastern Oregon University\, where he served as president for five years. He and his wife\, Cindy\, have a daughter\, Katie.
LOCATION:Chamber of Commerce office\, 15 E. Center\, Madisonville
UID:e.1578.459
SEQUENCE:3
DTSTAMP:20260422T014140Z
URL:https://business.hopkinschamber.com/events/details/meet-greet-new-murray-state-university-president-08-13-2014-459
END:VEVENT

END:VCALENDAR
