BEGIN:VCALENDAR
VERSION:2.0
PRODID:-//ChamberMaster//Event Calendar 2.0//EN
METHOD:PUBLISH
X-PUBLISHED-TTL:P3D
REFRESH-INTERVAL:P3D
CALSCALE:GREGORIAN
BEGIN:VEVENT
DTSTART:20141029T220000Z
DTEND:20141030T000000Z
X-MICROSOFT-CDO-ALLDAYEVENT:FALSE
SUMMARY:McDonalds Ribbon Cutting & Grand Opening
DESCRIPTION:Help us welcome the newest Madisonville McDonald's! Join us for a ribbon cutting during their Grand Opening Celebration
X-ALT-DESC;FMTTYPE=text/html:Help us welcome the newest&nbsp\;Madisonville McDonald&#39\;s! Join us for a ribbon cutting during their Grand Opening Celebration&nbsp\;&nbsp\;&nbsp\;&nbsp\;&nbsp\;&nbsp\;&nbsp\;
LOCATION:40 Ruby Drive\, Madisonville
UID:e.1578.473
SEQUENCE:3
DTSTAMP:20260423T062601Z
URL:https://business.hopkinschamber.com/events/details/mcdonalds-ribbon-cutting-grand-opening-10-29-2014-473
END:VEVENT

END:VCALENDAR
