BEGIN:VCALENDAR
VERSION:2.0
PRODID:-//ChamberMaster//Event Calendar 2.0//EN
METHOD:PUBLISH
X-PUBLISHED-TTL:P3D
REFRESH-INTERVAL:P3D
CALSCALE:GREGORIAN
BEGIN:VEVENT
DTSTART:20191207T010000Z
DTEND:20191207T030000Z
X-MICROSOFT-CDO-ALLDAYEVENT:FALSE
SUMMARY:MCC Singers & Jaimee Paul
DESCRIPTION:Glema Mahr Center for the Arts -\n\n$10.00 General Admission - Students and Children half price\n\nContact Glema Mahr Center for the Arts at 270.821.2787
X-ALT-DESC;FMTTYPE=text/html:Glema Mahr Center for the Arts -<br />\n$10.00 General Admission - Students and Children half price<br />\nContact Glema Mahr Center for the Arts at 270.821.2787
LOCATION:
UID:e.1578.3810
SEQUENCE:3
DTSTAMP:20260422T025056Z
URL:https://business.hopkinschamber.com/events/details/mcc-singers-jaimee-paul-3810
END:VEVENT

END:VCALENDAR
