BEGIN:VCALENDAR
VERSION:2.0
PRODID:-//ChamberMaster//Event Calendar 2.0//EN
METHOD:PUBLISH
X-PUBLISHED-TTL:P3D
REFRESH-INTERVAL:P3D
CALSCALE:GREGORIAN
BEGIN:VEVENT
DTSTART:20200426T000000Z
DTEND:20200426T020000Z
X-MICROSOFT-CDO-ALLDAYEVENT:FALSE
SUMMARY:Martina McBride in Concert
DESCRIPTION:Martina McBride in Concert
X-ALT-DESC;FMTTYPE=text/html:Martina McBride in Concert
LOCATION:Glema Mahr Center for the Arts
UID:e.1578.3857
SEQUENCE:3
DTSTAMP:20260421T213934Z
URL:https://business.hopkinschamber.com/events/details/martina-mcbride-in-concert-3857
END:VEVENT

END:VCALENDAR
