BEGIN:VCALENDAR
VERSION:2.0
PRODID:-//ChamberMaster//Event Calendar 2.0//EN
METHOD:PUBLISH
X-PUBLISHED-TTL:P3D
REFRESH-INTERVAL:P3D
CALSCALE:GREGORIAN
BEGIN:VEVENT
DTSTART:20200328T000000Z
DTEND:20200328T020000Z
X-MICROSOFT-CDO-ALLDAYEVENT:FALSE
SUMMARY:Madisonville North Hopkins High School Production of Narnia
DESCRIPTION:Madisonville North Hopkins High School's Production of Narnia
X-ALT-DESC;FMTTYPE=text/html:Madisonville North Hopkins High School&#39\;s Production of Narnia
LOCATION:The Glema Mahr Center For The Arts
UID:e.1578.3866
SEQUENCE:3
DTSTAMP:20260421T231422Z
URL:https://business.hopkinschamber.com/events/details/madisonville-north-hopkins-high-school-production-of-narnia-3866
END:VEVENT

END:VCALENDAR
