BEGIN:VCALENDAR
VERSION:2.0
PRODID:-//ChamberMaster//Event Calendar 2.0//EN
METHOD:PUBLISH
X-PUBLISHED-TTL:P3D
REFRESH-INTERVAL:P3D
CALSCALE:GREGORIAN
BEGIN:VEVENT
DTSTART:20290101T223000Z
DTEND:20290101T233000Z
X-MICROSOFT-CDO-ALLDAYEVENT:FALSE
SUMMARY:Madisonville City Council Meeting
DESCRIPTION:
X-ALT-DESC;FMTTYPE=text/html:
LOCATION:City Hall of Madisonville
UID:e.1578.2418
SEQUENCE:3
DTSTAMP:20260421T214348Z
URL:https://business.hopkinschamber.com/events/details/madisonville-city-council-meeting-01-01-2029-2418
END:VEVENT

END:VCALENDAR
