BEGIN:VCALENDAR
VERSION:2.0
PRODID:-//ChamberMaster//Event Calendar 2.0//EN
METHOD:PUBLISH
X-PUBLISHED-TTL:P3D
REFRESH-INTERVAL:P3D
CALSCALE:GREGORIAN
BEGIN:VEVENT
DTSTART:20210814T150000Z
DTEND:20210815T000000Z
X-MICROSOFT-CDO-ALLDAYEVENT:FALSE
SUMMARY:Madisonville Arts and Crafts Faire
DESCRIPTION:This event brings together over 30 vendors\, specializing in arts\, crafts\, and unique local creations.
X-ALT-DESC;FMTTYPE=text/html:This event brings together over 30 vendors\, specializing in arts\, crafts\, and unique local creations.&nbsp\;
LOCATION:This event takes place at the Ballard Convention Center in Madisonville\, KY.
UID:e.1578.5196
SEQUENCE:3
DTSTAMP:20260421T180424Z
URL:https://business.hopkinschamber.com/events/details/madisonville-arts-and-crafts-faire-5196
END:VEVENT

END:VCALENDAR
