BEGIN:VCALENDAR
VERSION:2.0
PRODID:-//ChamberMaster//Event Calendar 2.0//EN
METHOD:PUBLISH
X-PUBLISHED-TTL:P3D
REFRESH-INTERVAL:P3D
CALSCALE:GREGORIAN
BEGIN:VEVENT
DTSTART:20140704T220000Z
DTEND:20140705T020000Z
X-MICROSOFT-CDO-ALLDAYEVENT:FALSE
SUMMARY:Madisonville 4thFest
DESCRIPTION:July 4 Celebration at Madisonville City Park\, 5 p.m.\n\nConch Republic Band performs from 6-9 p.m.\n\nFood Vendors\n\nInflatable bounce houses for the kids\n\nChamber of Commerce Beer Garden\n\nFireworks show begins at 9 p.m.
X-ALT-DESC;FMTTYPE=text/html:July 4 Celebration at Madisonville City Park\, 5 p.m.<br />\nConch Republic Band performs from 6-9 p.m.<br />\nFood Vendors<br />\nInflatable bounce houses for the kids<br />\nChamber of Commerce Beer Garden<br />\nFireworks show begins at 9 p.m.
LOCATION:Madisonville City Park
UID:e.1578.440
SEQUENCE:3
DTSTAMP:20260422T023318Z
URL:https://business.hopkinschamber.com/events/details/madisonville-4thfest-07-04-2014-440
END:VEVENT

END:VCALENDAR
