BEGIN:VCALENDAR
VERSION:2.0
PRODID:-//ChamberMaster//Event Calendar 2.0//EN
METHOD:PUBLISH
X-PUBLISHED-TTL:P3D
REFRESH-INTERVAL:P3D
CALSCALE:GREGORIAN
BEGIN:VEVENT
DTSTART:20130704T220000Z
DTEND:20130705T020000Z
X-MICROSOFT-CDO-ALLDAYEVENT:FALSE
SUMMARY:Madisonville 4thFest
DESCRIPTION:It's the premier summer celebration for Madisonville & Hopkins County! Live music by Conch Republic\, food vendors\, beer garden\, fireworks\, and more.
X-ALT-DESC;FMTTYPE=text/html:It&#39\;s the premier summer celebration for Madisonville &amp\; Hopkins County! Live music by Conch Republic\, food vendors\, beer garden\, fireworks\, and more.
LOCATION:Ballard Convention Center\, 605 East Arch St.\, Madisonville Fireworks are at 9:30 p.m. at Madisonville City Park
UID:e.1578.55
SEQUENCE:3
DTSTAMP:20260422T190518Z
URL:https://business.hopkinschamber.com/events/details/madisonville-4thfest-07-04-2013-55
END:VEVENT

END:VCALENDAR
