BEGIN:VCALENDAR
VERSION:2.0
PRODID:-//ChamberMaster//Event Calendar 2.0//EN
METHOD:PUBLISH
X-PUBLISHED-TTL:P3D
REFRESH-INTERVAL:P3D
CALSCALE:GREGORIAN
BEGIN:VEVENT
DTSTART:20191121T133000Z
DTEND:20191121T143000Z
X-MICROSOFT-CDO-ALLDAYEVENT:FALSE
SUMMARY:Mad City Morning Mingle
DESCRIPTION:Join us every Thursday at 7:30 am for our weekly networking event. Members can come and give a two-minute commercial and share some "good gossip" about events and activities happening around Madisonville. If you would like to be a presenter please reach out to Rhonda Clark for more info on what that entails.
X-ALT-DESC;FMTTYPE=text/html:Join us every Thursday at 7:30 am for our weekly networking event. Members can come and give a two-minute commercial and share some "good gossip" about events and activities happening around Madisonville. If you would like to be a presenter please reach out to Rhonda Clark for more info on what that entails.&nbsp\;
LOCATION:15 E Center St. Madisonville\, Ky 42431
UID:e.1578.1578
SEQUENCE:3
DTSTAMP:20260421T174449Z
URL:https://business.hopkinschamber.com/events/details/mad-city-morning-mingle-1578
END:VEVENT

END:VCALENDAR
