BEGIN:VCALENDAR
VERSION:2.0
PRODID:-//ChamberMaster//Event Calendar 2.0//EN
METHOD:PUBLISH
X-PUBLISHED-TTL:P3D
REFRESH-INTERVAL:P3D
CALSCALE:GREGORIAN
BEGIN:VEVENT
DTSTART:20170501T170000Z
DTEND:20170501T183000Z
X-MICROSOFT-CDO-ALLDAYEVENT:FALSE
SUMMARY:Lunch & Learn Seminar
DESCRIPTION:Presented by Shannon Thurby\, Marketing Account Executive\, WEHT\n\n\n\nLunch is on us...and so are the great marketing tips you'll get when you join us for our Marketing 101 for Small Business Lunch and Learn Seminar on May 1. Shannon Thurby will present the nuts and bolts of marketing across traditional and social media platforms to share the story of your business and build awareness and excitement around your brand. You don't want to miss this free and informative session presented by a media expert!\n\n\n\nWant to reserve your spot? Call us today\, (270) 821-3435!
X-ALT-DESC;FMTTYPE=text/html:<span style="color: rgb(75\, 79\, 86)\; font-family: Helvetica\, Arial\, sans-serif\; font-size: 14px\;">Presented by Shannon Thurby\, Marketing Account Executive\, WEHT</span><br style="color: rgb(75\, 79\, 86)\; font-family: Helvetica\, Arial\, sans-serif\; font-size: 14px\;" />\n<br style="color: rgb(75\, 79\, 86)\; font-family: Helvetica\, Arial\, sans-serif\; font-size: 14px\;" />\n<span style="color: rgb(75\, 79\, 86)\; font-family: Helvetica\, Arial\, sans-serif\; font-size: 14px\;">Lunch is on us...and so are the great marketing tips you&#39\;ll get when you join us for our Marketing 101 for Small Business Lunch and Learn Seminar on May 1. Shannon Thurby will present the nuts and bolts of marketing across traditional and social media platforms to share the story of your business and build awareness and excitement around your brand. You don&#39\;t want to miss this free and informative session presented by a media expert!</span><br style="color: rgb(75\, 79\, 86)\; font-family: Helvetica\, Arial\, sans-serif\; font-size: 14px\;" />\n<br style="color: rgb(75\, 79\, 86)\; font-family: Helvetica\, Arial\, sans-serif\; font-size: 14px\;" />\n<span style="color: rgb(75\, 79\, 86)\; font-family: Helvetica\, Arial\, sans-serif\; font-size: 14px\;">Want to reserve your spot? Call us today\, (270) 821-3435!</span>
LOCATION:Hopkins County Regional Chamber of Commerce 15 E Center Street
UID:e.1578.784
SEQUENCE:3
DTSTAMP:20260421T124016Z
URL:https://business.hopkinschamber.com/events/details/lunch-learn-seminar-784
END:VEVENT

END:VCALENDAR
