BEGIN:VCALENDAR
VERSION:2.0
PRODID:-//ChamberMaster//Event Calendar 2.0//EN
METHOD:PUBLISH
X-PUBLISHED-TTL:P3D
REFRESH-INTERVAL:P3D
CALSCALE:GREGORIAN
BEGIN:VEVENT
DTSTART:20121025T163000Z
DTEND:20121025T180000Z
X-MICROSOFT-CDO-ALLDAYEVENT:FALSE
SUMMARY:Lunch and Learn
DESCRIPTION:Lunch and Learn seminar for business owners and manager\, "Energy Efficiency Pays: How to Save on Utility Bills\," presented by Earthwell Energy Management. Earthwell will offer tips on how businesses can use energy saving strategies to reduce costs. The lunch is free but reservations are required.
X-ALT-DESC;FMTTYPE=text/html:Lunch and Learn seminar for business owners and manager\, &quot\;Energy Efficiency Pays: How to Save on Utility Bills\,&quot\; presented by Earthwell Energy Management. Earthwell will offer tips on how businesses can use energy saving strategies to reduce costs. The lunch is free but reservations are required.
LOCATION:Madisonville-Hopkins County Chamber of Commerce 15 E. Center St. Madisonville\, KY 42431
UID:e.1578.5
SEQUENCE:3
DTSTAMP:20260424T154457Z
URL:https://business.hopkinschamber.com/events/details/lunch-and-learn-10-25-2012-5
END:VEVENT

END:VCALENDAR
