BEGIN:VCALENDAR
VERSION:2.0
PRODID:-//ChamberMaster//Event Calendar 2.0//EN
METHOD:PUBLISH
X-PUBLISHED-TTL:P3D
REFRESH-INTERVAL:P3D
CALSCALE:GREGORIAN
BEGIN:VEVENT
DTSTART:20191214T160000Z
DTEND:20191214T200000Z
X-MICROSOFT-CDO-ALLDAYEVENT:FALSE
SUMMARY:Little Girl's Day Out
DESCRIPTION:Blades Salon and Day Spa will be present to paint nails and do hair wraps.  For appointments call Falcon Creek at 270-841-1862.
X-ALT-DESC;FMTTYPE=text/html:Blades Salon and Day Spa will be present to paint nails and do hair wraps.&nbsp\; For appointments call Falcon Creek at 270-841-1862.
LOCATION:111 South Main Street
UID:e.1578.3809
SEQUENCE:3
DTSTAMP:20260422T031037Z
URL:https://business.hopkinschamber.com/events/details/little-girl-s-day-out-3809
END:VEVENT

END:VCALENDAR
