BEGIN:VCALENDAR
VERSION:2.0
PRODID:-//ChamberMaster//Event Calendar 2.0//EN
METHOD:PUBLISH
X-PUBLISHED-TTL:P3D
REFRESH-INTERVAL:P3D
CALSCALE:GREGORIAN
BEGIN:VEVENT
DTSTART:20150720T163000Z
DTEND:20150720T170000Z
X-MICROSOFT-CDO-ALLDAYEVENT:FALSE
SUMMARY:Lillies of the Field Ribbon Cutting
DESCRIPTION:Ribbon Cutting
X-ALT-DESC;FMTTYPE=text/html:Ribbon Cutting
LOCATION:229 Madison Square Drive
UID:e.1578.532
SEQUENCE:3
DTSTAMP:20260421T112017Z
URL:https://business.hopkinschamber.com/events/details/lillies-of-the-field-ribbon-cutting-07-20-2015-532
END:VEVENT

END:VCALENDAR
