BEGIN:VCALENDAR
VERSION:2.0
PRODID:-//ChamberMaster//Event Calendar 2.0//EN
METHOD:PUBLISH
X-PUBLISHED-TTL:P3D
REFRESH-INTERVAL:P3D
CALSCALE:GREGORIAN
BEGIN:VEVENT
DTSTART:20140110T230000Z
DTEND:20140111T000000Z
X-MICROSOFT-CDO-ALLDAYEVENT:FALSE
SUMMARY:Libraries UNmuted
DESCRIPTION:Libraries UNmuted series presents beginner guitar lessons with George Mitchell\n\nFriday\, January 10 at 5p.m.\n\nat Hopkins County-Madisonville Public Library\n\nPlease bring your own guitar\, a notebook\, and pen or pencil\n\nPlease call 270-825-2680 for more information and to register
X-ALT-DESC;FMTTYPE=text/html:<span style="color: black\;"><span style="font-family: verdana\,sans-serif\;"><span style="font-size: 10pt\;">Libraries UNmuted series presents beginner guitar lessons with George Mitchell</span></span></span><br />\n<span style="color: black\;"><span style="font-family: verdana\,sans-serif\;"><span style="font-size: 10pt\;">Friday\, January 10 at 5p.m.</span></span></span><br />\n<span style="color: black\;"><span style="font-family: verdana\,sans-serif\;"><span style="font-size: 10pt\;">at Hopkins County-Madisonville Public Library</span></span></span><br />\n<span style="color: black\;"><span style="font-family: verdana\,sans-serif\;"><span style="font-size: 10pt\;">Please bring your own guitar\, a notebook\, and pen or pencil</span></span></span><br />\n<span style="color: black\;"><span style="font-family: verdana\,sans-serif\;"><span style="font-size: 10pt\;">Please call 270-825-2680 for more information and to register</span></span></span>
LOCATION:Hopkins County-Madisonville Public Library 455 Madison Square Madisonville\, KY 42431
UID:e.1578.198
SEQUENCE:3
DTSTAMP:20260422T112156Z
URL:https://business.hopkinschamber.com/events/details/libraries-unmuted-01-10-2014-198
END:VEVENT

END:VCALENDAR
