BEGIN:VCALENDAR
VERSION:2.0
PRODID:-//ChamberMaster//Event Calendar 2.0//EN
METHOD:PUBLISH
X-PUBLISHED-TTL:P3D
REFRESH-INTERVAL:P3D
CALSCALE:GREGORIAN
BEGIN:VEVENT
DTSTART:20211029T170000Z
DTEND:20211029T180000Z
X-MICROSOFT-CDO-ALLDAYEVENT:FALSE
SUMMARY:Let's Do Lunch!
DESCRIPTION:Make new connections during the convenience of your lunch hour. Arrive promptly at 12:00 p.m. and bring 25 to 30 of your business cards and/or promotional items. Order from the restaurant menu\, with meals costing between $7 and $15.
X-ALT-DESC;FMTTYPE=text/html:<span style="color: rgb(5\, 5\, 5)\; font-family: system-ui\, -apple-system\, system-ui\, &quot\;.SFNSText-Regular&quot\;\, sans-serif\; font-size: 15px\; background-color: rgb(255\, 255\, 255)\;">Make new connections during the convenience of your lunch hour. Arrive promptly at 12:00 p.m. and bring 25 to 30 of your business cards and/or promotional items. Order from the restaurant menu\, with meals costing between $7 and $15.</span>
LOCATION:Big City Market & Coffee Bar 25 Sugg Street\, Madisonville KY\, 42431
UID:e.1578.5282
SEQUENCE:3
DTSTAMP:20260421T150142Z
URL:https://business.hopkinschamber.com/events/details/let-s-do-lunch-5282
END:VEVENT

END:VCALENDAR
