BEGIN:VCALENDAR
VERSION:2.0
PRODID:-//ChamberMaster//Event Calendar 2.0//EN
METHOD:PUBLISH
X-PUBLISHED-TTL:P3D
REFRESH-INTERVAL:P3D
CALSCALE:GREGORIAN
BEGIN:VEVENT
DTSTART:20161205T180000Z
DTEND:20161205T193000Z
X-MICROSOFT-CDO-ALLDAYEVENT:FALSE
SUMMARY:Legislative Preview
DESCRIPTION:Join for an informative luncheon featuring guest speaker Dave Adkisson\, President of the Kentucky Chamber. Adkisson will speak on the upcoming state legislative session and how the outcome can affect your business.
X-ALT-DESC;FMTTYPE=text/html:Join for an informative luncheon featuring guest speaker Dave Adkisson\, President of the Kentucky Chamber. Adkisson will speak on the upcoming state legislative session and how the outcome can affect your business.
LOCATION:Country Cupboard\, 581 McCoy Ave.\, Madisonville
UID:e.1578.751
SEQUENCE:3
DTSTAMP:20260421T190103Z
URL:https://business.hopkinschamber.com/events/details/legislative-preview-751
END:VEVENT

END:VCALENDAR
