BEGIN:VCALENDAR
VERSION:2.0
PRODID:-//ChamberMaster//Event Calendar 2.0//EN
METHOD:PUBLISH
X-PUBLISHED-TTL:P3D
REFRESH-INTERVAL:P3D
CALSCALE:GREGORIAN
BEGIN:VEVENT
DTSTART:20140120T130000Z
DTEND:20140120T143000Z
X-MICROSOFT-CDO-ALLDAYEVENT:FALSE
SUMMARY:Legislative Breakfast
DESCRIPTION:Join us as our state legislators share their views on the upcoming Legislative Session in Frankfort.
X-ALT-DESC;FMTTYPE=text/html:Join us as our state legislators share their views on the upcoming Legislative Session in Frankfort.
LOCATION:J. R. Miller Auditorium\, Baptist Health Madisonville
UID:e.1578.202
SEQUENCE:3
DTSTAMP:20260423T210610Z
URL:https://business.hopkinschamber.com/events/details/legislative-breakfast-01-20-2014-202
END:VEVENT

END:VCALENDAR
