BEGIN:VCALENDAR
VERSION:2.0
PRODID:-//ChamberMaster//Event Calendar 2.0//EN
METHOD:PUBLISH
X-PUBLISHED-TTL:P3D
REFRESH-INTERVAL:P3D
CALSCALE:GREGORIAN
BEGIN:VEVENT
DTSTART:20130926T230000Z
DTEND:20130926T233000Z
X-MICROSOFT-CDO-ALLDAYEVENT:FALSE
SUMMARY:Learn and Burn Healthy Topics Speaker
DESCRIPTION:Learn and Burn\n\n\n	HEALTHY TOPICS SPEAKER\n\n	 \n\n	\n		September 26 - Katie Williams\, Yoga Instructor\n	\n		Topic: Creating an active lifestyle\n	\n		 \n	\n		Don't forget to weigh in
X-ALT-DESC;FMTTYPE=text/html:<div>\n	<div align="center" style="text-align: center\; line-height: normal\; font-size: 12pt\; margin-bottom: 0pt\;">\n		<strong><em><span style="font-family: times new roman\,serif\;"><span style="font-size: 12pt\;">Learn and Burn</span></span></em></strong></div>\n</div>\n<div align="center" style="text-align: center\; line-height: normal\; font-size: 12pt\; margin-bottom: 0pt\;">\n	<strong><em><span style="font-family: times new roman\,serif\;"><span style="font-size: 12pt\;">HEALTHY TOPICS SPEAKER</span></span></em></strong></div>\n<div align="center" style="text-align: center\; line-height: normal\; font-size: 12pt\; margin-bottom: 0pt\;">\n	&nbsp\;</div>\n<div align="center" style="padding: 0in\; border: currentColor\; text-align: center\; line-height: normal\; font-size: 12pt\; margin-bottom: 0pt\;">\n	<div style="text-align: center\; font-size: 12pt\;">\n		<span style="font-family: arial\,sans-serif\;"><span style="font-size: 12pt\;"><span style="font-family: arial\,sans-serif\;"><span style="font-size: 12pt\;"><span style="font-style: italic\; language: en-US\;"><span style="font-family: arial rounded mt bold\;"><span style="font-size: 13pt\;">September 26 - Katie Williams\, Yoga Instructor</span></span></span></span></span></span></span></div>\n	<div style="text-align: center\; font-size: 12pt\;">\n		<span style="font-style: italic\; language: en-US\;"><span style="font-family: arial rounded mt bold\;"><span style="font-size: 13pt\;">Topic: Creating an active lifestyle</span></span></span></div>\n	<div style="text-align: center\; font-size: 12pt\;">\n		&nbsp\;</div>\n	<div style="text-align: center\; font-size: 12pt\;">\n		Don&#39\;t forget to weigh in</div>\n</div>\n
LOCATION:Hopkins County - Madisonville Public Library 455 Madison Square Madisonville\, KY 42431
UID:e.1578.177
SEQUENCE:3
DTSTAMP:20260422T164522Z
URL:https://business.hopkinschamber.com/events/details/learn-and-burn-healthy-topics-speaker-09-26-2013-177
END:VEVENT

END:VCALENDAR
