BEGIN:VCALENDAR
VERSION:2.0
PRODID:-//ChamberMaster//Event Calendar 2.0//EN
METHOD:PUBLISH
X-PUBLISHED-TTL:P3D
REFRESH-INTERVAL:P3D
CALSCALE:GREGORIAN
BEGIN:VEVENT
DTSTART:20130905T230000Z
DTEND:20130905T233000Z
X-MICROSOFT-CDO-ALLDAYEVENT:FALSE
SUMMARY:Learn and Burn
DESCRIPTION:Learn and Burn HEALTHY TOPICS SPEAKER SCHEDULE Sept 5-Sheila Baker Topic: What do those food labels mean?
X-ALT-DESC;FMTTYPE=text/html:Learn and Burn HEALTHY TOPICS SPEAKER SCHEDULE Sept 5-Sheila Baker Topic: What do those food labels mean?
LOCATION:Hopkins County-Madisonville Public Library 455 Madison Square Madisonville\, KY 42431
UID:e.1578.93
SEQUENCE:3
DTSTAMP:20260422T164120Z
URL:https://business.hopkinschamber.com/events/details/learn-and-burn-09-05-2013-93
END:VEVENT

END:VCALENDAR
