BEGIN:VCALENDAR
VERSION:2.0
PRODID:-//ChamberMaster//Event Calendar 2.0//EN
METHOD:PUBLISH
X-PUBLISHED-TTL:P3D
REFRESH-INTERVAL:P3D
CALSCALE:GREGORIAN
BEGIN:VEVENT
DTSTART:20131214T170000Z
DTEND:20131214T200000Z
X-MICROSOFT-CDO-ALLDAYEVENT:FALSE
SUMMARY:KYNECT at HCMPL
DESCRIPTION:Pennyrile Allied Community Services\, Inc\n\nkynect Assister for Region 2 will be at Hopkins County-Madisonville Public Library on Saturday\, December 14 from 11am to 2pm.
X-ALT-DESC;FMTTYPE=text/html:<span style="color: black\;"><span style="font-family: verdana\,sans-serif\;"><span style="font-size: 10pt\;">Pennyrile Allied Community Services\, Inc<br />\nkynect Assister for Region 2 will be at Hopkins County-Madisonville Public Library on Saturday\, December 14 from 11am to 2pm.</span></span></span>
LOCATION:Hopkins County-Madisonville Public Library 455 Madison Square Madisonville\, KY 42431
UID:e.1578.197
SEQUENCE:3
DTSTAMP:20260422T123653Z
URL:https://business.hopkinschamber.com/events/details/kynect-at-hcmpl-12-14-2013-197
END:VEVENT

END:VCALENDAR
