BEGIN:VCALENDAR
VERSION:2.0
PRODID:-//ChamberMaster//Event Calendar 2.0//EN
METHOD:PUBLISH
X-PUBLISHED-TTL:P3D
REFRESH-INTERVAL:P3D
CALSCALE:GREGORIAN
BEGIN:VEVENT
DTSTART:20130717T133000Z
DTEND:20130717T170000Z
X-MICROSOFT-CDO-ALLDAYEVENT:FALSE
SUMMARY:Kentucky Sports Radio Live Show Tour
DESCRIPTION:Show your Big Blue Nation UK Cats fan support at Hudson Toyota Chrysler Dodge Jeep Ram with KSR - Kentucky Sports Radio broadcasting Live from Hudson. Madisonville's own\, Drew Franklin along with the KSR host Matt Jones and KSR associates will be in Madisonville. There will be a UK Ticket giveaway along with other prizes and FUN!
X-ALT-DESC;FMTTYPE=text/html:Show your Big Blue Nation UK Cats fan support at Hudson Toyota Chrysler Dodge Jeep Ram with KSR - Kentucky Sports Radio broadcasting Live from Hudson. Madisonville&#39\;s own\, Drew Franklin along with the KSR host Matt Jones and KSR associates will be in Madisonville. There will be a UK Ticket giveaway along with other prizes and FUN!
LOCATION:Hudson Toyota Chrysler Dodge Jeep Ram 1055 Crossing Place - Exit 44 Pennyrile Pkwy - Madisonville\, KY
UID:e.1578.67
SEQUENCE:3
DTSTAMP:20260422T190730Z
URL:https://business.hopkinschamber.com/events/details/kentucky-sports-radio-live-show-tour-07-17-2013-67
END:VEVENT

END:VCALENDAR
