BEGIN:VCALENDAR
VERSION:2.0
PRODID:-//ChamberMaster//Event Calendar 2.0//EN
METHOD:PUBLISH
X-PUBLISHED-TTL:P3D
REFRESH-INTERVAL:P3D
CALSCALE:GREGORIAN
BEGIN:VEVENT
DTSTART;VALUE=DATE:20201002
DTEND;VALUE=DATE:20201003
TRANSP:TRANSPARENT
X-MICROSOFT-CDO-ALLDAYEVENT:TRUE
SUMMARY:Kentucky Movers and Makers Open House
DESCRIPTION:Open to the general public
X-ALT-DESC;FMTTYPE=text/html:Open to the general public
LOCATION:
UID:e.1578.4359
SEQUENCE:3
DTSTAMP:20260421T141137Z
URL:https://business.hopkinschamber.com/events/details/kentucky-movers-and-makers-open-house-4359
END:VEVENT

END:VCALENDAR
