BEGIN:VCALENDAR
VERSION:2.0
PRODID:-//ChamberMaster//Event Calendar 2.0//EN
METHOD:PUBLISH
X-PUBLISHED-TTL:P3D
REFRESH-INTERVAL:P3D
CALSCALE:GREGORIAN
BEGIN:VEVENT
DTSTART;VALUE=DATE:20201001
DTEND;VALUE=DATE:20201002
TRANSP:TRANSPARENT
X-MICROSOFT-CDO-ALLDAYEVENT:TRUE
SUMMARY:Kentucky Movers and Makers Open House
DESCRIPTION:Invitation only
X-ALT-DESC;FMTTYPE=text/html:Invitation only
LOCATION:
UID:e.1578.4358
SEQUENCE:3
DTSTAMP:20260421T141336Z
URL:https://business.hopkinschamber.com/events/details/kentucky-movers-and-makers-open-house-4358
END:VEVENT

END:VCALENDAR
