BEGIN:VCALENDAR
VERSION:2.0
PRODID:-//ChamberMaster//Event Calendar 2.0//EN
METHOD:PUBLISH
X-PUBLISHED-TTL:P3D
REFRESH-INTERVAL:P3D
CALSCALE:GREGORIAN
BEGIN:VEVENT
DTSTART:20211009T150000Z
DTEND:20211009T180000Z
X-MICROSOFT-CDO-ALLDAYEVENT:FALSE
SUMMARY:Kentucky Movers and Makers - Hammer-In Hopkins County Forging Demo
DESCRIPTION:Join us for a Fall Hammer-In at Kentucky Movers and Makers.\n \n\nThis event will feature Blacksmithing demonstrations. Bring the family for a fun learning experience!
X-ALT-DESC;FMTTYPE=text/html:<span style="color: rgb(98\, 98\, 98)\; font-family: pt-sans\, sans-serif\; font-size: 14px\; background-color: rgb(255\, 255\, 255)\;">Join us for a Fall Hammer-In at Kentucky Movers and Makers.</span>\n<div style="color: rgb(98\, 98\, 98)\; font-family: pt-sans\, sans-serif\; font-size: 14px\; background-color: rgb(255\, 255\, 255)\;">&nbsp\;</div>\n\n<div style="color: rgb(98\, 98\, 98)\; font-family: pt-sans\, sans-serif\; font-size: 14px\; background-color: rgb(255\, 255\, 255)\;">This event will feature Blacksmithing demonstrations. Bring the family for a fun learning experience!</div>\n
LOCATION:This event will take place at Kentucky Movers and Makers. 130 N Seminary Street\, Madisonville KY\, 42431.
UID:e.1578.5245
SEQUENCE:3
DTSTAMP:20260421T181753Z
URL:https://business.hopkinschamber.com/events/details/kentucky-movers-and-makers-hammer-in-hopkins-county-forging-demo-5245
END:VEVENT

END:VCALENDAR
