BEGIN:VCALENDAR
VERSION:2.0
PRODID:-//ChamberMaster//Event Calendar 2.0//EN
METHOD:PUBLISH
X-PUBLISHED-TTL:P3D
REFRESH-INTERVAL:P3D
CALSCALE:GREGORIAN
BEGIN:VEVENT
DTSTART:20211021T223000Z
DTEND:20211022T003000Z
X-MICROSOFT-CDO-ALLDAYEVENT:FALSE
SUMMARY:Kentucky Movers and Makers - Beginners Wire Wrapping Ring Class
DESCRIPTION:In this class participants will learn basic wire wrapping techniques and tricks for creating wire wrapped rings. Ages 12+ up.\nThis is a beginners class. No previous experience is needed. The participants will leave with 2 completed rings and knowledge of materials needed and techniques to get started wire wrapping.
X-ALT-DESC;FMTTYPE=text/html:<span style="color: rgb(98\, 98\, 98)\; font-family: pt-sans\, sans-serif\; font-size: 14px\; background-color: rgb(255\, 255\, 255)\;">In this class participants will learn basic wire wrapping techniques and tricks for creating wire wrapped rings. Ages 12+ up.</span>\n<div style="color: rgb(98\, 98\, 98)\; font-family: pt-sans\, sans-serif\; font-size: 14px\; background-color: rgb(255\, 255\, 255)\;">This is a beginners class. No previous experience is needed. The participants will leave with 2 completed rings and knowledge of materials needed and techniques to get started wire wrapping.</div>\n
LOCATION:This event is at Kentucky Movers and Makers. 130 N Seminary Street\, Madisonville KY\, 42431.
UID:e.1578.5250
SEQUENCE:3
DTSTAMP:20260421T150305Z
URL:https://business.hopkinschamber.com/events/details/kentucky-movers-and-makers-beginners-wire-wrapping-ring-class-5250
END:VEVENT

END:VCALENDAR
