BEGIN:VCALENDAR
VERSION:2.0
PRODID:-//ChamberMaster//Event Calendar 2.0//EN
METHOD:PUBLISH
X-PUBLISHED-TTL:P3D
REFRESH-INTERVAL:P3D
CALSCALE:GREGORIAN
BEGIN:VEVENT
DTSTART:20211019T230000Z
DTEND:20211020T010000Z
X-MICROSOFT-CDO-ALLDAYEVENT:FALSE
SUMMARY:Kentucky Movers and Makers - Beginners CNC Plasma Cutting
DESCRIPTION:This beginners class will show you basics and demonstrations of how to use the CNC Plasma cutting table for cutting out shapes from flat sheet metal class .\n \n\nClass Goals \n\nWe will start with a demo and familiarization with the Baileigh CNC Plasma Cutter.
X-ALT-DESC;FMTTYPE=text/html:<span style="color: rgb(98\, 98\, 98)\; font-family: pt-sans\, sans-serif\; font-size: 14px\; background-color: rgb(255\, 255\, 255)\;">This beginners class will show you basics and demonstrations of how to use the CNC Plasma cutting table for cutting out shapes from flat sheet metal class .</span>\n<div style="color: rgb(98\, 98\, 98)\; font-family: pt-sans\, sans-serif\; font-size: 14px\; background-color: rgb(255\, 255\, 255)\;">&nbsp\;</div>\n\n<div style="color: rgb(98\, 98\, 98)\; font-family: pt-sans\, sans-serif\; font-size: 14px\; background-color: rgb(255\, 255\, 255)\;">Class Goals&nbsp\;</div>\n\n<div style="color: rgb(98\, 98\, 98)\; font-family: pt-sans\, sans-serif\; font-size: 14px\; background-color: rgb(255\, 255\, 255)\;">We will start with a demo and familiarization with the Baileigh CNC Plasma Cutter.</div>\n
LOCATION:This event is at Kentucky Movers and Makers. 130 N Seminary Street\, Madisonville KY\, 42431.
UID:e.1578.5246
SEQUENCE:3
DTSTAMP:20260421T150417Z
URL:https://business.hopkinschamber.com/events/details/kentucky-movers-and-makers-beginners-cnc-plasma-cutting-5246
END:VEVENT

END:VCALENDAR
