BEGIN:VCALENDAR
VERSION:2.0
PRODID:-//ChamberMaster//Event Calendar 2.0//EN
METHOD:PUBLISH
X-PUBLISHED-TTL:P3D
REFRESH-INTERVAL:P3D
CALSCALE:GREGORIAN
BEGIN:VEVENT
DTSTART:20130718T163000Z
DTEND:20130718T180000Z
X-MICROSOFT-CDO-ALLDAYEVENT:FALSE
SUMMARY:Kentucky Export Initiative Luncheon
DESCRIPTION:The Madisonville Area Manufacturers Association\, Madisonville Hopkins County Chamber and the Economic Development Committee will hold a Kentucky Export Initiative Luncheon\, "Exporting from Madisonville - Hopkins County: Let's Get Started\," to educate local and regional organizations and business leaders about the opportunities and benefits of promoting and developing exporting opportunities in their local economies/businesses. Tentative speaking agenda includes former governor Martha Layne Collins\, Ambassador-at-Large for the Kentucky Chamber of Commerce\; Ed Webb\, President\, World Trade Center Kentucky\; Sara Moreno\, U.S. Commercial Service\, and Brad Thomas\, Small Business Services Division\, Kentucky Cabinet for Economic Development. We will also hear from representatives of a local business that has achieved success in the exporting market. \n	\n		 \n	\n		This Kentucky Export Initiative Luncheon will be a great way to learn how your business can take advantage of exporting\, speak one-on-one with agencies that can move your company forward in the market\, and network with fellow Chamber member companies.
X-ALT-DESC;FMTTYPE=text/html:<div style="color: gray\;">\n	<p style="margin: 0in 0in 0pt\;">\n		<span style="color: rgb(40\, 86\, 133)\; font-family: &quot\;Verdana&quot\;\,&quot\;sans-serif&quot\;\; font-size: 9pt\;">The Madisonville Area Manufacturers Association\, Madisonville Hopkins County Chamber and the Economic Development Committee will hold a Kentucky Export Initiative Luncheon\, <strong><span style="font-family: &quot\;Verdana&quot\;\,&quot\;sans-serif&quot\;\;">&quot\;Exporting from Madisonville - Hopkins County: Let&#39\;s Get Started\,&quot\;</span></strong> to educate local and regional organizations and business leaders about the opportunities and benefits of promoting and developing exporting opportunities in their local economies/businesses.&nbsp\;Tentative&nbsp\;speaking agenda includes former governor Martha Layne Collins\, Ambassador-at-Large for the Kentucky Chamber of Commerce\; Ed Webb\, President\, World Trade Center Kentucky\; Sara Moreno\, U.S. Commercial Service\, and Brad Thomas\, Small Business Services Division\, Kentucky Cabinet for Economic Development. We will also hear from representatives of&nbsp\;a local business&nbsp\;that has achieved success in the exporting market. <o:p></o:p></span></p>\n	<p style="margin: 0in 0in 0pt\;">\n		<span style="color: rgb(40\, 86\, 133)\; font-family: &quot\;Verdana&quot\;\,&quot\;sans-serif&quot\;\; font-size: 9pt\;">&nbsp\;<o:p></o:p></span></p>\n	<p style="margin: 0in 0in 0pt\;">\n		<span style="color: rgb(40\, 86\, 133)\; font-family: &quot\;Verdana&quot\;\,&quot\;sans-serif&quot\;\; font-size: 9pt\;">This Kentucky Export Initiative Luncheon will be a great way to learn how your business can take advantage of exporting\, speak one-on-one with agencies that can move your company forward in the market\, and network with fellow Chamber member companies. <o:p></o:p></span></p>\n	<p style="margin: 0in 0in 0pt\;">\n		&nbsp\;</p>\n</div>\n
LOCATION:Madisonville Economic Development office\, 755 Industrial Road\, Madisonville
UID:e.1578.69
SEQUENCE:3
DTSTAMP:20260424T034941Z
URL:https://business.hopkinschamber.com/events/details/kentucky-export-initiative-luncheon-07-18-2013-69
END:VEVENT

END:VCALENDAR
