BEGIN:VCALENDAR
VERSION:2.0
PRODID:-//ChamberMaster//Event Calendar 2.0//EN
METHOD:PUBLISH
X-PUBLISHED-TTL:P3D
REFRESH-INTERVAL:P3D
CALSCALE:GREGORIAN
BEGIN:VEVENT
DTSTART:20130924T223000Z
DTEND:20130925T000000Z
X-MICROSOFT-CDO-ALLDAYEVENT:FALSE
SUMMARY:Kentucky Chautauqua presents Mark Twain
DESCRIPTION:Kentucky Chautauqua presents Mark Twain Tuesday\, September 24 5:30 pm at Hopkins County-Madisonville Public Library
X-ALT-DESC;FMTTYPE=text/html:Kentucky Chautauqua presents Mark Twain Tuesday\, September 24 5:30 pm at Hopkins County-Madisonville Public Library
LOCATION:Hopkins County-Madisonville Public Library
UID:e.1578.96
SEQUENCE:3
DTSTAMP:20260422T164530Z
URL:https://business.hopkinschamber.com/events/details/kentucky-chautauqua-presents-mark-twain-09-24-2013-96
END:VEVENT

END:VCALENDAR
