BEGIN:VCALENDAR
VERSION:2.0
PRODID:-//ChamberMaster//Event Calendar 2.0//EN
METHOD:PUBLISH
X-PUBLISHED-TTL:P3D
REFRESH-INTERVAL:P3D
CALSCALE:GREGORIAN
BEGIN:VEVENT
DTSTART;VALUE=DATE:20150728
DTEND;VALUE=DATE:20150729
TRANSP:TRANSPARENT
X-MICROSOFT-CDO-ALLDAYEVENT:TRUE
SUMMARY:Kentucky Chamber Business Summit & Annual Meeting
DESCRIPTION:Kentucky Chamber Business Summit and Annual Meeting
X-ALT-DESC;FMTTYPE=text/html:Kentucky Chamber Business Summit and Annual Meeting
LOCATION:Louisville\, KY Marriott Downtown
UID:e.1578.531
SEQUENCE:3
DTSTAMP:20260421T111144Z
URL:https://business.hopkinschamber.com/events/details/kentucky-chamber-business-summit-annual-meeting-07-28-2015-531
END:VEVENT

END:VCALENDAR
