BEGIN:VCALENDAR
VERSION:2.0
PRODID:-//ChamberMaster//Event Calendar 2.0//EN
METHOD:PUBLISH
X-PUBLISHED-TTL:P3D
REFRESH-INTERVAL:P3D
CALSCALE:GREGORIAN
BEGIN:VEVENT
DTSTART;VALUE=DATE:20200616
DTEND;VALUE=DATE:20200617
TRANSP:TRANSPARENT
X-MICROSOFT-CDO-ALLDAYEVENT:TRUE
SUMMARY:June Member Meetings
DESCRIPTION:You're invited to our first member meeting of the year. Due to social distancing guidelines we are hosting a morning and a afternoon session with limited capacity. Registration is required. This monthly topic will highlight the exclusive healthcare options available to you as a Chamber Member including: BluMine Health\, Chamber Advantage\, and ClearPath Mutual.
X-ALT-DESC;FMTTYPE=text/html:<span font-size:="" font-variant-ligatures:="" orphans:="" style="color: rgb(29\, 33\, 41)\; font-family: system-ui\, -apple-system\, system-ui\, " white-space:="" widows:="">You&#39\;re invited to our first member meeting of the year. Due to social distancing guidelines we are hosting a morning and a afternoon session with limited capacity. Registration is required. This monthly topic will highlight the exclusive healthcare options available to you as a Chamber Member including: BluMine Health\, Chamber Advantage\, and ClearPath Mutual.&nbsp\;</span>
LOCATION:Choose the session you wish to attend when registering: 7:30 a.m. - 9:00 a.m. at Swaggy P's located at 818 S. Main St. Madisonville\, KY 42431 11:30 a.m. - 1:00 p.m. at the Crowded House located at 26 W. Center St. Madisonville\, KY 42431
UID:e.1578.4153
SEQUENCE:3
DTSTAMP:20260421T181743Z
URL:https://business.hopkinschamber.com/events/details/june-member-meetings-4153
END:VEVENT

END:VCALENDAR
