BEGIN:VCALENDAR
VERSION:2.0
PRODID:-//ChamberMaster//Event Calendar 2.0//EN
METHOD:PUBLISH
X-PUBLISHED-TTL:P3D
REFRESH-INTERVAL:P3D
CALSCALE:GREGORIAN
BEGIN:VEVENT
DTSTART:20200502T003000Z
DTEND:20200502T023000Z
X-MICROSOFT-CDO-ALLDAYEVENT:FALSE
SUMMARY:Jeff Allen - The America I Grew Up In Tour
DESCRIPTION:Jeff Allen - The America I Grew Up In Tour - Hancock Bank & Trust CoffeeHouse Series
X-ALT-DESC;FMTTYPE=text/html:Jeff Allen - The America I Grew Up In Tour - Hancock Bank &amp\; Trust CoffeeHouse Series
LOCATION:The Glema Mahr Center For The Arts
UID:e.1578.3862
SEQUENCE:3
DTSTAMP:20260421T201012Z
URL:https://business.hopkinschamber.com/events/details/jeff-allen-the-america-i-grew-up-in-tour-3862
END:VEVENT

END:VCALENDAR
