BEGIN:VCALENDAR
VERSION:2.0
PRODID:-//ChamberMaster//Event Calendar 2.0//EN
METHOD:PUBLISH
X-PUBLISHED-TTL:P3D
REFRESH-INTERVAL:P3D
CALSCALE:GREGORIAN
BEGIN:VEVENT
DTSTART:20141118T173000Z
DTEND:20141118T193000Z
X-MICROSOFT-CDO-ALLDAYEVENT:FALSE
SUMMARY:Innovation Luncheon
DESCRIPTION:Innovation Luncheon for Entrepreneurs
X-ALT-DESC;FMTTYPE=text/html:Innovation Luncheon for Entrepreneurs
LOCATION:Grapevine Baptist Church 85 Sandcut Road Madisonville\, KY 42431
UID:e.1578.462
SEQUENCE:3
DTSTAMP:20260421T212755Z
URL:https://business.hopkinschamber.com/events/details/innovation-luncheon-11-18-2014-462
END:VEVENT

END:VCALENDAR
