BEGIN:VCALENDAR
VERSION:2.0
PRODID:-//ChamberMaster//Event Calendar 2.0//EN
METHOD:PUBLISH
X-PUBLISHED-TTL:P3D
REFRESH-INTERVAL:P3D
CALSCALE:GREGORIAN
BEGIN:VEVENT
DTSTART:20200108T133000Z
DTEND:20200108T150000Z
X-MICROSOFT-CDO-ALLDAYEVENT:FALSE
SUMMARY:Innovate & Caffeinate
DESCRIPTION:
X-ALT-DESC;FMTTYPE=text/html:
LOCATION:Innovation Station 38 W Arch St. Madisonville\, Ky 42431
UID:e.1578.3196
SEQUENCE:3
DTSTAMP:20260422T014036Z
URL:https://business.hopkinschamber.com/events/details/innovate-caffeinate-3196
END:VEVENT

END:VCALENDAR
