BEGIN:VCALENDAR
VERSION:2.0
PRODID:-//ChamberMaster//Event Calendar 2.0//EN
METHOD:PUBLISH
X-PUBLISHED-TTL:P3D
REFRESH-INTERVAL:P3D
CALSCALE:GREGORIAN
BEGIN:VEVENT
DTSTART:20200506T123000Z
DTEND:20200506T140000Z
X-MICROSOFT-CDO-ALLDAYEVENT:FALSE
SUMMARY:Innovate & Caffeinate
DESCRIPTION:
X-ALT-DESC;FMTTYPE=text/html:
LOCATION:Innovation Station 38 W Arch St. Madisonville\, Ky 42431
UID:e.1578.3200
SEQUENCE:3
DTSTAMP:20260421T193053Z
URL:https://business.hopkinschamber.com/events/details/innovate-caffeinate-05-06-2020-3200
END:VEVENT

END:VCALENDAR
