BEGIN:VCALENDAR
VERSION:2.0
PRODID:-//ChamberMaster//Event Calendar 2.0//EN
METHOD:PUBLISH
X-PUBLISHED-TTL:P3D
REFRESH-INTERVAL:P3D
CALSCALE:GREGORIAN
BEGIN:VEVENT
DTSTART:20131015T133000Z
DTEND:20131015T220000Z
X-MICROSOFT-CDO-ALLDAYEVENT:FALSE
SUMMARY:I-69 Kentucky Development Conference presented by Rogers Group
DESCRIPTION:The I69 Development Conference brings together elected officials and leaders of business\, industry\, tourism\, and more to formulate economic development strategies in preparation for the advance of the Interstate 69 corridor through western Kentucky.
X-ALT-DESC;FMTTYPE=text/html:<div style="color: gray\;">\n	<span style="font-size: 14px\;"><span style="font-family: arial\;"><span style="color: rgb(31\, 73\, 125)\;">The I69 Development Conference brings together elected officials and leaders of business\, industry\, tourism\, and more to formulate economic development strategies in preparation for the advance of the Interstate 69 corridor through western Kentucky.</span></span></span><br />\n	&nbsp\;</div>\n
LOCATION:Ballard Convention Center 605 East Arch St. Madisonville\, KY 42431
UID:e.1578.92
SEQUENCE:3
DTSTAMP:20260423T234249Z
URL:https://business.hopkinschamber.com/events/details/i-69-kentucky-development-conference-presented-by-rogers-group-10-15-2013-92
END:VEVENT

END:VCALENDAR
