BEGIN:VCALENDAR
VERSION:2.0
PRODID:-//ChamberMaster//Event Calendar 2.0//EN
METHOD:PUBLISH
X-PUBLISHED-TTL:P3D
REFRESH-INTERVAL:P3D
CALSCALE:GREGORIAN
BEGIN:VEVENT
DTSTART:20131026T170000Z
DTEND:20131027T020000Z
X-MICROSOFT-CDO-ALLDAYEVENT:FALSE
SUMMARY:Hudson Toyota Rockin' 4 Research
DESCRIPTION:The second annual Rockin' 4 Research features a fantastic lineup of local and regional musicians including Eddie and Alonzo Pennington\, Boscoe France\, and more! Vendors will sell food\, drinks\, and other items. This is a fundraiser for cancer research and Relay for Life teams are invited to set up booths. For more details\, call Lisa Moberly at Hudson Toyota Chrysler Dodge Jeep Ram   Home of the Lifetime Warranty   Exit 44 Saves YOU More! At 270-821-3372 or 270-836-4573.
X-ALT-DESC;FMTTYPE=text/html:<span style="font-family: arial\;"><span style="font-size: 11px\;">The second annual Rockin&#39\; 4 Research features a fantastic lineup of local and regional musicians including Eddie and Alonzo Pennington\, Boscoe France\, and more! Vendors will sell food\, drinks\, and other items. This is a fundraiser for cancer research and Relay for Life teams are invited to set up booths.&nbsp\;For more details\, call Lisa Moberly at Hudson Toyota Chrysler Dodge Jeep Ram &ndash\; Home of the Lifetime Warranty &ndash\; Exit 44 Saves YOU More! At 270-821-3372 or 270-836-4573.</span></span><br />\n
LOCATION:Hudson Toyota Chrysler Dodge Jeep Ram\, 1055 Crossing Place\, Madisonville\, off I-69/Pennyrile Parkway Exit 44
UID:e.1578.183
SEQUENCE:3
DTSTAMP:20260422T152255Z
URL:https://business.hopkinschamber.com/events/details/hudson-toyota-rockin-4-research-10-26-2013-183
END:VEVENT

END:VCALENDAR
