BEGIN:VCALENDAR
VERSION:2.0
PRODID:-//ChamberMaster//Event Calendar 2.0//EN
METHOD:PUBLISH
X-PUBLISHED-TTL:P3D
REFRESH-INTERVAL:P3D
CALSCALE:GREGORIAN
BEGIN:VEVENT
DTSTART:20131003T163000Z
DTEND:20131003T180000Z
X-MICROSOFT-CDO-ALLDAYEVENT:FALSE
SUMMARY:Hot Topic Lunch-State of Education in Hopkins County
DESCRIPTION:Join us for a special Hot Topic Lunch as leaders in education discuss the state of education in Hopkins County.
X-ALT-DESC;FMTTYPE=text/html:Join us for a special Hot Topic Lunch as leaders in education discuss the state of education in Hopkins County.
LOCATION:Ballard Convention Center\, 605 E. Arch St.\, Madisonville
UID:e.1578.163
SEQUENCE:3
DTSTAMP:20260422T152758Z
URL:https://business.hopkinschamber.com/events/details/hot-topic-lunch-state-of-education-in-hopkins-county-10-03-2013-163
END:VEVENT

END:VCALENDAR
