BEGIN:VCALENDAR
VERSION:2.0
PRODID:-//ChamberMaster//Event Calendar 2.0//EN
METHOD:PUBLISH
X-PUBLISHED-TTL:P3D
REFRESH-INTERVAL:P3D
CALSCALE:GREGORIAN
BEGIN:VEVENT
DTSTART:20150122T180000Z
DTEND:20150122T190000Z
X-MICROSOFT-CDO-ALLDAYEVENT:FALSE
SUMMARY:Hot Topic Lunch presented by Owensboro Health
DESCRIPTION:Join us for the first Hot Topic Lunch of 2015 as Owensboro Health delivers its Annual Community Report. Speakers include Owensboro Health CEO Phillip Patterson\, Multicare Practice Administrator Chesley Jones\, and Dr. Mark Tackett of Madisonville.
X-ALT-DESC;FMTTYPE=text/html:Join us for the first Hot Topic Lunch of 2015 as Owensboro Health delivers its Annual Community Report. Speakers include Owensboro Health CEO Phillip Patterson\, Multicare Practice Administrator Chesley Jones\, and Dr. Mark Tackett of Madisonville.
LOCATION:Madisonville Community College's Brown Badgett Sr. Advanced Energy & Technology Center
UID:e.1578.482
SEQUENCE:3
DTSTAMP:20260421T191356Z
URL:https://business.hopkinschamber.com/events/details/hot-topic-lunch-presented-by-owensboro-health-01-22-2015-482
END:VEVENT

END:VCALENDAR
