BEGIN:VCALENDAR
VERSION:2.0
PRODID:-//ChamberMaster//Event Calendar 2.0//EN
METHOD:PUBLISH
X-PUBLISHED-TTL:P3D
REFRESH-INTERVAL:P3D
CALSCALE:GREGORIAN
BEGIN:VEVENT
DTSTART:20130308T180000Z
DTEND:20130308T190000Z
X-MICROSOFT-CDO-ALLDAYEVENT:FALSE
SUMMARY:Hot Topic Lunch - Community Literacy
DESCRIPTION:Join us for a Hot Topic Luncheon\, "Creating a Richer Quality of Life through Community Literacy." Guest speakers: Lin Oliver\, author\, worldwide literacy advocate and producer of children's and family films and television\; and Theo Baker\, author. Sponsored by Hopkins County Schools\, Madisonville Community College\, Murray State University\, and the Chamber. Seating is limited. RSVP required. 821-3435.
X-ALT-DESC;FMTTYPE=text/html:Join us for a Hot Topic Luncheon\, &quot\;Creating a Richer Quality of Life through Community Literacy.&quot\; Guest speakers: Lin Oliver\, author\, worldwide literacy advocate and producer of children&#39\;s and family films and television\; and Theo Baker\, author. Sponsored by Hopkins County Schools\, Madisonville Community College\, Murray State University\, and the Chamber. Seating is limited. RSVP required. 821-3435.
LOCATION:Brown Badgett Sr. Energy and Advanced Technology Center\, Madisonville Community College campus.
UID:e.1578.32
SEQUENCE:3
DTSTAMP:20260423T032451Z
URL:https://business.hopkinschamber.com/events/details/hot-topic-lunch-community-literacy-03-08-2013-32
END:VEVENT

END:VCALENDAR
