BEGIN:VCALENDAR
VERSION:2.0
PRODID:-//ChamberMaster//Event Calendar 2.0//EN
METHOD:PUBLISH
X-PUBLISHED-TTL:P3D
REFRESH-INTERVAL:P3D
CALSCALE:GREGORIAN
BEGIN:VEVENT
DTSTART:20140306T173000Z
DTEND:20140306T190000Z
X-MICROSOFT-CDO-ALLDAYEVENT:FALSE
SUMMARY:Hot Topic Lunch: Community Literacy
DESCRIPTION:Join us for the Chamber's second annual Hot Topic Luncheon addressing Community Literacy. This year's guest speaker is children's science fiction & fantasy author and world-wide literacy advocate\, Bruce Coville. Bruce has published more than 100 books that have been translated in dozens of languages\, and he is the owner of Full Cast Audio\, an audio book production company.\n\n\n\nThe luncheon is sponsored by Madisonville Community College\, Murray State University-Madisonville\, and Hopkins County Schools.
X-ALT-DESC;FMTTYPE=text/html:Join us for the Chamber&#39\;s second annual Hot Topic Luncheon addressing Community Literacy. This year&#39\;s guest speaker is children&#39\;s science fiction &amp\; fantasy author and world-wide literacy advocate\, Bruce Coville. Bruce has published more than 100 books that have been translated in dozens of languages\, and he is the owner of Full Cast Audio\, an audio book production company.<br type="_moz" />\n<br />\nThe luncheon is sponsored by Madisonville Community College\, Murray State University-Madisonville\, and Hopkins County Schools.<br type="_moz" />\n
LOCATION:Eighth floor\, Baptist Health Madisonville Medical Associates Building B.
UID:e.1578.203
SEQUENCE:3
DTSTAMP:20260422T081605Z
URL:https://business.hopkinschamber.com/events/details/hot-topic-lunch-community-literacy-03-06-2014-203
END:VEVENT

END:VCALENDAR
