BEGIN:VCALENDAR
VERSION:2.0
PRODID:-//ChamberMaster//Event Calendar 2.0//EN
METHOD:PUBLISH
X-PUBLISHED-TTL:P3D
REFRESH-INTERVAL:P3D
CALSCALE:GREGORIAN
BEGIN:VEVENT
DTSTART:20130514T163000Z
DTEND:20130514T180000Z
X-MICROSOFT-CDO-ALLDAYEVENT:FALSE
SUMMARY:Hot Topic Lunch @ Baptist Health Madisonville
DESCRIPTION:Join us for a luncheon sponsored by Baptist Health Madisonville. Topic: The implementation of Patient-Centered Medical Home (PCMH) model of care. The lunch will feature speakers from TransforMED\, a trusted leader in PCMH transformation.
X-ALT-DESC;FMTTYPE=text/html:<div style="color: gray\;">\n	<span style="color: rgb(40\, 86\, 133)\; font-family: &quot\;Verdana&quot\;\,&quot\;sans-serif&quot\;\; font-size: 9pt\; mso-fareast-font-family: &quot\;Times New Roman&quot\;\; mso-bidi-font-family: &quot\;Times New Roman&quot\;\; mso-ansi-language: EN-US\; mso-fareast-language: EN-US\; mso-bidi-language: AR-SA\;">Join us for a luncheon sponsored by Baptist Health Madisonville. Topic</span><span style="color: rgb(40\, 86\, 133)\; font-family: &quot\;Verdana&quot\;\,&quot\;sans-serif&quot\;\; font-size: 9pt\; mso-fareast-font-family: &quot\;Times New Roman&quot\;\; mso-bidi-font-family: &quot\;Times New Roman&quot\;\; mso-ansi-language: EN-US\; mso-fareast-language: EN-US\; mso-bidi-language: AR-SA\;">: The implementation of&nbsp\;Patient-Centered Medical Home (PCMH)&nbsp\;model of care. The lunch will feature speakers from TransforMED\, a trusted leader in PCMH transformation.</span></div>\n
LOCATION:Eighth floor of Baptist Tower\, 200 Clinic Drive\, Madisonville
UID:e.1578.46
SEQUENCE:3
DTSTAMP:20260424T061029Z
URL:https://business.hopkinschamber.com/events/details/hot-topic-lunch-baptist-health-madisonville-05-14-2013-46
END:VEVENT

END:VCALENDAR
