BEGIN:VCALENDAR
VERSION:2.0
PRODID:-//ChamberMaster//Event Calendar 2.0//EN
METHOD:PUBLISH
X-PUBLISHED-TTL:P3D
REFRESH-INTERVAL:P3D
CALSCALE:GREGORIAN
BEGIN:VEVENT
DTSTART:20211107T200000Z
DTEND:20211107T210000Z
X-MICROSOFT-CDO-ALLDAYEVENT:FALSE
SUMMARY:Hopkins County Veterans Day Parade
DESCRIPTION:Stand with thousands of spectators and proudly wave the flag in salute to our veterans. This nationally recognized parade features marching bands\, decorated vehicles\, color guards\, and other entries from throughout the region.
X-ALT-DESC;FMTTYPE=text/html:<span style="font-family: Roboto\; font-size: 16px\;">Stand with thousands of spectators and proudly wave the flag in salute to our veterans. This nationally recognized parade features marching bands\, decorated vehicles\, color guards\, and other entries from throughout the region.</span>
LOCATION:Downtown Madisonville KY 42431
UID:e.1578.5267
SEQUENCE:3
DTSTAMP:20260421T084353Z
URL:https://business.hopkinschamber.com/events/details/hopkins-county-veterans-day-parade-5267
END:VEVENT

END:VCALENDAR
