BEGIN:VCALENDAR
VERSION:2.0
PRODID:-//ChamberMaster//Event Calendar 2.0//EN
METHOD:PUBLISH
X-PUBLISHED-TTL:P3D
REFRESH-INTERVAL:P3D
CALSCALE:GREGORIAN
BEGIN:VEVENT
DTSTART:20211006T123000Z
DTEND:20211006T133000Z
X-MICROSOFT-CDO-ALLDAYEVENT:FALSE
SUMMARY:Hopkins County Innovate + Caffeinate
DESCRIPTION:Coordinated by Madisonville-Hopkins County Economic Development Corporation\, Hopkins County Innovate + Caffeinate is a free monthly gathering for entrepreneurs of all stages\, like-minded professionals\, and ecosystem builders. There are no memberships\; the coffee is free and everyone is welcome to share lessons learned and connect with their entrepreneurial community.
X-ALT-DESC;FMTTYPE=text/html:Coordinated by Madisonville-Hopkins County Economic Development Corporation\, Hopkins County Innovate + Caffeinate is a free monthly gathering for entrepreneurs of all stages\, like-minded professionals\, and ecosystem builders. There are no memberships\; the coffee is free and everyone is welcome to share lessons learned and connect with their entrepreneurial community.&nbsp\;
LOCATION:Kentucky Innovation Station 38 W. Arch Street\, Madisonville KY\, 42431
UID:e.1578.5277
SEQUENCE:3
DTSTAMP:20260421T162239Z
URL:https://business.hopkinschamber.com/events/details/hopkins-county-innovate-caffeinate-5277
END:VEVENT

END:VCALENDAR
