BEGIN:VCALENDAR
VERSION:2.0
PRODID:-//ChamberMaster//Event Calendar 2.0//EN
METHOD:PUBLISH
X-PUBLISHED-TTL:P3D
REFRESH-INTERVAL:P3D
CALSCALE:GREGORIAN
BEGIN:VEVENT
DTSTART:20141013T210000Z
DTEND:20141013T233000Z
X-MICROSOFT-CDO-ALLDAYEVENT:FALSE
SUMMARY:Hopkins County Freedom Forum sponsored by AT&T
DESCRIPTION:Meet the candidates for contested mayoral\, county\, and state races!\n\nSponsored by AT&T
X-ALT-DESC;FMTTYPE=text/html:Meet the candidates for contested mayoral\, county\, and state races!<br />\nSponsored by AT&amp\;T
LOCATION:Covenant Community Church\, 1055 N. Main\, Madisonville
UID:e.1578.468
SEQUENCE:3
DTSTAMP:20260422T001357Z
URL:https://business.hopkinschamber.com/events/details/hopkins-county-freedom-forum-sponsored-by-at-t-10-13-2014-468
END:VEVENT

END:VCALENDAR
