BEGIN:VCALENDAR
VERSION:2.0
PRODID:-//ChamberMaster//Event Calendar 2.0//EN
METHOD:PUBLISH
X-PUBLISHED-TTL:P3D
REFRESH-INTERVAL:P3D
CALSCALE:GREGORIAN
BEGIN:VEVENT
DTSTART:20281121T160000Z
DTEND:20281121T170000Z
X-MICROSOFT-CDO-ALLDAYEVENT:FALSE
SUMMARY:Hopkins County Fiscal Court Meeting
DESCRIPTION:
X-ALT-DESC;FMTTYPE=text/html:
LOCATION:
UID:e.1578.3056
SEQUENCE:3
DTSTAMP:20260421T191817Z
URL:https://business.hopkinschamber.com/events/details/hopkins-county-fiscal-court-meeting-11-21-2028-3056
END:VEVENT

END:VCALENDAR
