BEGIN:VCALENDAR
VERSION:2.0
PRODID:-//ChamberMaster//Event Calendar 2.0//EN
METHOD:PUBLISH
X-PUBLISHED-TTL:P3D
REFRESH-INTERVAL:P3D
CALSCALE:GREGORIAN
BEGIN:VEVENT
DTSTART:20200822T130000Z
DTEND:20200822T180000Z
X-MICROSOFT-CDO-ALLDAYEVENT:FALSE
SUMMARY:Hopkins County Farmers Market
DESCRIPTION:Hopkins County Farmers Market
X-ALT-DESC;FMTTYPE=text/html:Hopkins County Farmers Market<br />\n&nbsp\;
LOCATION:55 Mahr Park Mahr Park Arboretum at the Denny Peyton Outdoor Education Center & Farmers Market Pavilion
UID:e.1578.4200
SEQUENCE:3
DTSTAMP:20260421T154140Z
URL:https://business.hopkinschamber.com/events/details/hopkins-county-farmers-market-4200
END:VEVENT

END:VCALENDAR
