BEGIN:VCALENDAR
VERSION:2.0
PRODID:-//ChamberMaster//Event Calendar 2.0//EN
METHOD:PUBLISH
X-PUBLISHED-TTL:P3D
REFRESH-INTERVAL:P3D
CALSCALE:GREGORIAN
BEGIN:VEVENT
DTSTART:20210828T130000Z
DTEND:20210828T180000Z
X-MICROSOFT-CDO-ALLDAYEVENT:FALSE
SUMMARY:Hopkins County Farmers Market
DESCRIPTION:Hopkins County Farmers Market
X-ALT-DESC;FMTTYPE=text/html:Hopkins County Farmers Market
LOCATION:Mahr Park Arboretum
UID:e.1578.4983
SEQUENCE:3
DTSTAMP:20260421T164118Z
URL:https://business.hopkinschamber.com/events/details/hopkins-county-farmers-market-08-28-2021-4983
END:VEVENT

END:VCALENDAR
